BEGIN:VCALENDAR
VERSION:2.0
PRODID:-//wp-events-plugin.com//6.6.3//EN
BEGIN:VEVENT
UID:486@amazingkids.us
DTSTART;VALUE=DATE:20251029
DTEND;VALUE=DATE:20251030
DTSTAMP:20251003T220602Z
URL:https://amazingkids.us/events/wear-pink-for-breast-cancer-awareness-13
 /
SUMMARY:Wear Pink for Breast Cancer Awareness
DESCRIPTION:
CATEGORIES:Weatherly
END:VEVENT
END:VCALENDAR